BEGIN:VCALENDAR
VERSION:2.0
METHOD:PUBLISH
X-WR-CALNAME:wwuh.org |  June 15 2012- June 15 2012
PRODID:-//strange bird labs//Drupal iCal API//EN
BEGIN:VEVENT
DTSTAMP;VALUE=DATE-TIME:20260423T031328Z
DTSTART;VALUE=DATE-TIME:20120612T050000Z
DTEND;VALUE=DATE-TIME:20120615T180000Z
UID:http://wwuh.org/00598-out-here-and-beyond-cookers
URL;VALUE=URI:http://wwuh.org/00598-out-here-and-beyond-cookers
SUMMARY:Out Here and Beyond - The Cookers
DESCRIPTION:<p><span style=\\"font-family\: Arial\, ' Helvetica'\, ' sans-serif'\; color\: black\; font-size\: small\; \\">WWUH&nbsp\;will be featuring interviews with two members of The Cookers this week\, in anticipation of the jazz band&#39\;s performance at The Polish National Home\, 60 Charter Oak Ave.\, Hartford on Friday\, June 15 at 7 p.m.</span></p>
 
END:VEVENT
END:VCALENDAR
